BEGIN:VCALENDAR
VERSION:2.0
PRODID:-//https://fliednerschule-meerbusch.de///NONSGML kigkonsult.se iCalcreator 2.10.15//
METHOD:PUBLISH
BEGIN:VEVENT
UID:20260419T120314UTC-6129SBOHjZ@https://fliednerschule-meerbusch.de/
DTSTAMP:20260419T120314Z
DESCRIPTION: https://fliednerschule-meerbusch.de/index.php/component/rseven
 tspro/ereignis/14-elternabend-fuer-die-schulneulinge?Itemid=101
DTSTART:20260915T170000Z
DTEND:20260915T183000Z
LOCATION:Theodor-Fliedner-Schule ()
SUMMARY:Elternabend für die Schulneulinge
URL:https://fliednerschule-meerbusch.de/index.php/component/rseventspro/ere
 ignis/14-elternabend-fuer-die-schulneulinge?Itemid=101
END:VEVENT
END:VCALENDAR
