BEGIN:VCALENDAR
VERSION:2.0
PRODID:-//https://fliednerschule-meerbusch.de///NONSGML kigkonsult.se iCalcreator 2.10.15//
METHOD:PUBLISH
BEGIN:VEVENT
UID:20260422T172008UTC-6167wlij67@https://fliednerschule-meerbusch.de/
DTSTAMP:20260422T172008Z
DESCRIPTION: https://fliednerschule-meerbusch.de/index.php/news-projekte/ka
 lender-aktuell/ereignis/13-schulgottesdienst-entlassgottesdienst-fuer-die-
 4-klassen-alle-kinder
DTSTART:20260717T063000Z
DTEND:20260717T073000Z
LOCATION:Theodor-Fliedner-Schule ()
SUMMARY:Schulgottesdienst (Entlassgottesdienst für die 4. Klassen) - alle K
 inder
URL:https://fliednerschule-meerbusch.de/index.php/news-projekte/kalender-ak
 tuell/ereignis/13-schulgottesdienst-entlassgottesdienst-fuer-die-4-klassen
 -alle-kinder
END:VEVENT
END:VCALENDAR
