BEGIN:VCALENDAR
VERSION:2.0
PRODID:-//https://fliednerschule-meerbusch.de///NONSGML kigkonsult.se iCalcreator 2.10.15//
METHOD:PUBLISH
BEGIN:VEVENT
UID:20260422T141917UTC-9932Bh6Bv6@https://fliednerschule-meerbusch.de/
DTSTAMP:20260422T141917Z
DESCRIPTION: https://fliednerschule-meerbusch.de/index.php/news-projekte/ka
 lender-aktuell/ereignis/15-vsl-neuer-termin-sponsorenlauf
DTSTART:20260522T060000Z
DTEND:20260522T093500Z
LOCATION:Theodor-Fliedner-Schule ()
SUMMARY:vsl. neuer Termin Sponsorenlauf
URL:https://fliednerschule-meerbusch.de/index.php/news-projekte/kalender-ak
 tuell/ereignis/15-vsl-neuer-termin-sponsorenlauf
END:VEVENT
END:VCALENDAR
