BEGIN:VCALENDAR
VERSION:2.0
PRODID:-//https://fliednerschule-meerbusch.de///NONSGML kigkonsult.se iCalcreator 2.10.15//
METHOD:PUBLISH
BEGIN:VEVENT
UID:20260422T171941UTC-1832r2I8su@https://fliednerschule-meerbusch.de/
DTSTAMP:20260422T171941Z
DESCRIPTION: https://fliednerschule-meerbusch.de/index.php/news-projekte/ka
 lender-aktuell/ereignis/19-elterncafe-tabaluga-kindergarten-fuer-tabalugae
 ltern-fuer-schulneulinge-27-28
DTSTART:20261007T120000Z
DTEND:20261007T140000Z
LOCATION:extern ()
SUMMARY:Elterncafé - Tabaluga Kindergarten (für Tabalugaeltern für Schulneu
 linge 27/28)
URL:https://fliednerschule-meerbusch.de/index.php/news-projekte/kalender-ak
 tuell/ereignis/19-elterncafe-tabaluga-kindergarten-fuer-tabalugaeltern-fue
 r-schulneulinge-27-28
END:VEVENT
END:VCALENDAR
