BEGIN:VCALENDAR
VERSION:2.0
PRODID:-//https://fliednerschule-meerbusch.de///NONSGML kigkonsult.se iCalcreator 2.10.15//
METHOD:PUBLISH
BEGIN:VEVENT
UID:20260422T141717UTC-4303W0Funs@https://fliednerschule-meerbusch.de/
DTSTAMP:20260422T141717Z
DESCRIPTION: https://fliednerschule-meerbusch.de/index.php/news-projekte/ka
 lender-aktuell/ereignis/6-schulgottesdienst-klasse-2
DTSTART:20260506T060000Z
DTEND:20260506T064500Z
LOCATION:Theodor-Fliedner-Schule ()
SUMMARY:Schulgottesdienst (Klasse 2)
URL:https://fliednerschule-meerbusch.de/index.php/news-projekte/kalender-ak
 tuell/ereignis/6-schulgottesdienst-klasse-2
END:VEVENT
END:VCALENDAR
