BEGIN:VCALENDAR
VERSION:2.0
PRODID:-//https://fliednerschule-meerbusch.de///NONSGML kigkonsult.se iCalcreator 2.10.15//
METHOD:PUBLISH
BEGIN:VEVENT
UID:20260420T150702UTC-1493VujbEv@https://fliednerschule-meerbusch.de/
DTSTAMP:20260420T150702Z
DESCRIPTION: https://fliednerschule-meerbusch.de/index.php/news-projekte/tf
 s-events/ereignis/18-klassenfahrt-klasse-3
DTSTART:20260608T060000Z
DTEND:20260612T093500Z
LOCATION:Theodor-Fliedner-Schule ()
SUMMARY:Klassenfahrt Klasse 3
URL:https://fliednerschule-meerbusch.de/index.php/news-projekte/tfs-events/
 ereignis/18-klassenfahrt-klasse-3
END:VEVENT
END:VCALENDAR
