BEGIN:VCALENDAR
VERSION:2.0
PRODID:-//https://fliednerschule-meerbusch.de///NONSGML kigkonsult.se iCalcreator 2.10.15//
METHOD:PUBLISH
BEGIN:VEVENT
UID:20260420T150544UTC-9874BEuBam@https://fliednerschule-meerbusch.de/
DTSTAMP:20260420T150544Z
DESCRIPTION: https://fliednerschule-meerbusch.de/index.php/news-projekte/tf
 s-events/ereignis/1-beweglicher-ferientag
DTSTART;VALUE=DATE:20260515
LOCATION:TFS Schule Meerbusch ()
SUMMARY:Beweglicher Ferientag
URL:https://fliednerschule-meerbusch.de/index.php/news-projekte/tfs-events/
 ereignis/1-beweglicher-ferientag
END:VEVENT
BEGIN:VEVENT
UID:20260420T150544UTC-9876rw3Dkv@https://fliednerschule-meerbusch.de/
DTSTAMP:20260420T150544Z
DESCRIPTION: https://fliednerschule-meerbusch.de/index.php/news-projekte/tf
 s-events/ereignis/2-beweglicher-ferientag
DTSTART;VALUE=DATE:20260605
LOCATION:TFS Schule Meerbusch ()
SUMMARY:Beweglicher Ferientag
URL:https://fliednerschule-meerbusch.de/index.php/news-projekte/tfs-events/
 ereignis/2-beweglicher-ferientag
END:VEVENT
BEGIN:VEVENT
UID:20260420T150544UTC-98776som1x@https://fliednerschule-meerbusch.de/
DTSTAMP:20260420T150544Z
DESCRIPTION: https://fliednerschule-meerbusch.de/index.php/news-projekte/tf
 s-events/ereignis/5-paedagogischer-tag-schulfrei
DTSTART;VALUE=DATE:20260504
LOCATION:Theodor-Fliedner-Schule ()
SUMMARY:Pädagogischer Tag (schulfrei)
URL:https://fliednerschule-meerbusch.de/index.php/news-projekte/tfs-events/
 ereignis/5-paedagogischer-tag-schulfrei
END:VEVENT
BEGIN:VEVENT
UID:20260420T150544UTC-9877vovvUv@https://fliednerschule-meerbusch.de/
DTSTAMP:20260420T150544Z
DESCRIPTION: https://fliednerschule-meerbusch.de/index.php/news-projekte/tf
 s-events/ereignis/6-schulgottesdienst-klasse-2
DTSTART:20260506T060000Z
DTEND:20260506T064500Z
LOCATION:Theodor-Fliedner-Schule ()
SUMMARY:Schulgottesdienst (Klasse 2)
URL:https://fliednerschule-meerbusch.de/index.php/news-projekte/tfs-events/
 ereignis/6-schulgottesdienst-klasse-2
END:VEVENT
BEGIN:VEVENT
UID:20260420T150544UTC-9878wBfW86@https://fliednerschule-meerbusch.de/
DTSTAMP:20260420T150544Z
DESCRIPTION: https://fliednerschule-meerbusch.de/index.php/news-projekte/tf
 s-events/ereignis/8-elternabend-fuer-die-neuen-erstklaessler
DTSTART:20260616T170000Z
DTEND:20260616T180000Z
LOCATION:Theodor-Fliedner-Schule ()
SUMMARY:Elternabend für die neuen Erstklässler
URL:https://fliednerschule-meerbusch.de/index.php/news-projekte/tfs-events/
 ereignis/8-elternabend-fuer-die-neuen-erstklaessler
END:VEVENT
BEGIN:VEVENT
UID:20260420T150544UTC-9879gu9HFC@https://fliednerschule-meerbusch.de/
DTSTAMP:20260420T150544Z
DESCRIPTION: https://fliednerschule-meerbusch.de/index.php/news-projekte/tf
 s-events/ereignis/12-schulgottesdienst
DTSTART:20260618T070000Z
DTEND:20260618T080000Z
LOCATION:Theodor-Fliedner-Schule ()
SUMMARY:Schulgottesdienst
URL:https://fliednerschule-meerbusch.de/index.php/news-projekte/tfs-events/
 ereignis/12-schulgottesdienst
END:VEVENT
BEGIN:VEVENT
UID:20260420T150544UTC-9880AdUVUt@https://fliednerschule-meerbusch.de/
DTSTAMP:20260420T150544Z
DESCRIPTION: https://fliednerschule-meerbusch.de/index.php/news-projekte/tf
 s-events/ereignis/15-vsl-neuer-termin-sponsorenlauf
DTSTART:20260430T060000Z
DTEND:20260430T093500Z
LOCATION:Theodor-Fliedner-Schule ()
SUMMARY:vsl. neuer Termin Sponsorenlauf
URL:https://fliednerschule-meerbusch.de/index.php/news-projekte/tfs-events/
 ereignis/15-vsl-neuer-termin-sponsorenlauf
END:VEVENT
BEGIN:VEVENT
UID:20260420T150544UTC-9881RaV2cj@https://fliednerschule-meerbusch.de/
DTSTAMP:20260420T150544Z
DESCRIPTION: https://fliednerschule-meerbusch.de/index.php/news-projekte/tf
 s-events/ereignis/16-sportfest
DTSTART:20260603T060000Z
DTEND:20260603T093500Z
LOCATION:Theodor-Fliedner-Schule ()
SUMMARY:Sportfest
URL:https://fliednerschule-meerbusch.de/index.php/news-projekte/tfs-events/
 ereignis/16-sportfest
END:VEVENT
BEGIN:VEVENT
UID:20260420T150544UTC-9882fo5Mbf@https://fliednerschule-meerbusch.de/
DTSTAMP:20260420T150544Z
DESCRIPTION: https://fliednerschule-meerbusch.de/index.php/news-projekte/tf
 s-events/ereignis/17-gemeinsames-schulfest
DTSTART;VALUE=DATE:20260703
LOCATION:Theodor-Fliedner-Schule ()
SUMMARY:gemeinsames Schulfest
URL:https://fliednerschule-meerbusch.de/index.php/news-projekte/tfs-events/
 ereignis/17-gemeinsames-schulfest
END:VEVENT
BEGIN:VEVENT
UID:20260420T150544UTC-9883bVGirh@https://fliednerschule-meerbusch.de/
DTSTAMP:20260420T150544Z
DESCRIPTION: https://fliednerschule-meerbusch.de/index.php/news-projekte/tf
 s-events/ereignis/18-klassenfahrt-klasse-3
DTSTART:20260608T060000Z
DTEND:20260612T093500Z
LOCATION:Theodor-Fliedner-Schule ()
SUMMARY:Klassenfahrt Klasse 3
URL:https://fliednerschule-meerbusch.de/index.php/news-projekte/tfs-events/
 ereignis/18-klassenfahrt-klasse-3
END:VEVENT
END:VCALENDAR
